BEGIN:VCALENDAR
VERSION:2.0
PRODID:-//Protivix - ECPv6.13.2.1//NONSGML v1.0//EN
CALSCALE:GREGORIAN
METHOD:PUBLISH
X-WR-CALNAME:Protivix
X-ORIGINAL-URL:https://www.protivix.com
X-WR-CALDESC:Events for Protivix
REFRESH-INTERVAL;VALUE=DURATION:PT1H
X-Robots-Tag:noindex
X-PUBLISHED-TTL:PT1H
BEGIN:VTIMEZONE
TZID:America/Chicago
BEGIN:DAYLIGHT
TZOFFSETFROM:-0600
TZOFFSETTO:-0500
TZNAME:CDT
DTSTART:20150308T080000
END:DAYLIGHT
BEGIN:STANDARD
TZOFFSETFROM:-0500
TZOFFSETTO:-0600
TZNAME:CST
DTSTART:20151101T070000
END:STANDARD
BEGIN:DAYLIGHT
TZOFFSETFROM:-0600
TZOFFSETTO:-0500
TZNAME:CDT
DTSTART:20160313T080000
END:DAYLIGHT
BEGIN:STANDARD
TZOFFSETFROM:-0500
TZOFFSETTO:-0600
TZNAME:CST
DTSTART:20161106T070000
END:STANDARD
BEGIN:DAYLIGHT
TZOFFSETFROM:-0600
TZOFFSETTO:-0500
TZNAME:CDT
DTSTART:20170312T080000
END:DAYLIGHT
BEGIN:STANDARD
TZOFFSETFROM:-0500
TZOFFSETTO:-0600
TZNAME:CST
DTSTART:20171105T070000
END:STANDARD
END:VTIMEZONE
BEGIN:VEVENT
DTSTART;TZID=America/Chicago:20170824T110000
DTEND;TZID=America/Chicago:20170824T120000
DTSTAMP:20260423T124321
CREATED:20170509T205301Z
LAST-MODIFIED:20170509T220205Z
UID:1981-1503572400-1503576000@www.protivix.com
SUMMARY:Resource Management
DESCRIPTION:Project Online’s resource management capability is a key tool for optimizing resource allocation effectiveness\, understanding how resources are used\, where resource deficiencies exist while also enabling organizational capability management and succession planning. Resource management is also a useful tool for gaining an understanding of what people are working on. Topics to be covered include:  \n\nResource management\nCapacity management\nUnderstanding utilization\nPortfolio Analysis – resourcing\n\nREGISTER NOW!
URL:https://www.protivix.com/event/resource-management/
CATEGORIES:Webinar
END:VEVENT
BEGIN:VEVENT
DTSTART;TZID=America/Chicago:20170810T110000
DTEND;TZID=America/Chicago:20170810T120000
DTSTAMP:20260423T124321
CREATED:20170619T182808Z
LAST-MODIFIED:20170727T142806Z
UID:2343-1502362800-1502366400@www.protivix.com
SUMMARY:Dynamics 365 - Marketing with ClickDimensions
DESCRIPTION:Learn how marketers can manage multiple channels\, including email campaigns\, social media\, and digital advertising. Monitor brand mentions and engage with customers in real-time. Organizations can increase sales\, improve customer services\, and leverage customer relationships. \nDynamics 365 and ClickDimensions can help you gain valuable insights about your prospects and easily capture information through web forms\, surveys\, and more. \nHere’s What We’ll Discuss: \n\nEmail Creation (Templates)\nEmail Sends (Bulk Sends\, Quick Sends)\nWeb Tracking\nWeb Content (Forms\, Surveys\, Landing Pages)\nCampaign Automation\nEvent Management\nSocial Posting\n\nREGISTER NOW!\n11:00 AM (CST) Click here for TIME ZONES.
URL:https://www.protivix.com/event/dynamics-365-marketing-click-dimensions/
CATEGORIES:Webinar
END:VEVENT
BEGIN:VEVENT
DTSTART;TZID=America/Chicago:20170727T110000
DTEND;TZID=America/Chicago:20170727T120000
DTSTAMP:20260423T124321
CREATED:20170509T205337Z
LAST-MODIFIED:20170509T221928Z
UID:1979-1501153200-1501156800@www.protivix.com
SUMMARY:Demand Management and Intake Process
DESCRIPTION:Project Online is an essential tool for enabling the demand management and Intake process to achieve alignment with business strategy\, business case\, key metrics and key drivers to maximize process value creation. Project Online’s strategic scoring capability combined with document management is a potent force for driving project value. Topics to be covered include:  \n\nStrategic scoring\nProject intake fields\nReporting\n\nREGISTER NOW!
URL:https://www.protivix.com/event/demand-management-intake-process/
CATEGORIES:Webinar
END:VEVENT
BEGIN:VEVENT
DTSTART;TZID=America/Chicago:20170627T110000
DTEND;TZID=America/Chicago:20170627T120000
DTSTAMP:20260423T124321
CREATED:20170509T205418Z
LAST-MODIFIED:20170608T140401Z
UID:1977-1498561200-1498564800@www.protivix.com
SUMMARY:Project Management with Waterfall & Agile
DESCRIPTION:Project Online is an essential tool for driving standardization\, resource management\, project management and delivery excellence with multiple Systems Development Life Cycle models including Waterfall and Agile. Project Online will allow you to improve speed to market\, resource optimization\, reporting\, quality and enable continuous improvement across your IT projects. Topics to be covered include:  \n\nSDLC standardization through project types\nQuality gates and quality management\nAgile integration\nDashboards and reporting\nContinuous improvement\n\nREGISTER NOW! \n11:00 AM (CST) Click here for TIME ZONES.
URL:https://www.protivix.com/event/project-management-sdlc/
CATEGORIES:Webinar
END:VEVENT
BEGIN:VEVENT
DTSTART;TZID=America/Chicago:20170524T110000
DTEND;TZID=America/Chicago:20170524T120000
DTSTAMP:20260423T124321
CREATED:20170509T205543Z
LAST-MODIFIED:20170509T220453Z
UID:1973-1495623600-1495627200@www.protivix.com
SUMMARY:The PMO and Operating Model
DESCRIPTION:Learn the essentials of building a successful PMO and enabling an Operating Model which will boost efficiencies\, increase transparency\, and improve project delivery.   It is important to focus on the building blocks such as a defined success criteria and alignment with corporate culture and strategic initiatives.   Below you will find a few topics which will be discussed during the webinar.   \n\nValue Creation\nStrategic Alignment\nMaximize Transparency\nOptimize Enterprise-Wide utilization of resources\nOrganizational Buy-in\nEffective Delivery\n\nFeatured Speaker: John Singel\, Director of Business Solutions – Protivix \nREGISTER NOW!
URL:https://www.protivix.com/event/the-pmo-and-operating-model/
CATEGORIES:Webinar
END:VEVENT
BEGIN:VEVENT
DTSTART;TZID=America/Chicago:20170125T100000
DTEND;TZID=America/Chicago:20170125T110000
DTSTAMP:20260423T124321
CREATED:20161117T190454Z
LAST-MODIFIED:20161117T191017Z
UID:1459-1485338400-1485342000@www.protivix.com
SUMMARY:Keeping Your Projects On-Track and Organized with Project Online
DESCRIPTION:Project Managers have the challenge of keeping all the moving parts of a project on track and organized. \n\nWhat deliverables have been completed and what still needs to be done?\nAre any of them behind schedule?\nWho is assigned to do the work and do they have the capacity to do it?\nHow to stay in contact with the team for collaboration and getting updates?\nWhat possible actions can get a schedule back on track?\n\nYou’ll Learn: \n\nSchedule effectively using tools like Timelines\, Views and Reports to see how a schedule is performing\nManage resources more effectively by building teams based on their skills and availability\nCollaborate with team members using tools like Skype for Business within Project Online on multiple platforms\nMake smarter decisions using “What If” scenarios and Dashboards\n\nAbout the Speaker \nRobin Coward is a Senior Consultant with over 20 years of combined Project Management\, PPM and Consulting experience. She is certified in Project Server and Project Professional.
URL:https://www.protivix.com/event/keeping-projects-track-organized-project-online/
LOCATION:Online
CATEGORIES:Webinar
END:VEVENT
BEGIN:VEVENT
DTSTART;TZID=America/Chicago:20161213T100000
DTEND;TZID=America/Chicago:20161213T110000
DTSTAMP:20260423T124321
CREATED:20151105T232911Z
LAST-MODIFIED:20161118T165742Z
UID:220-1481623200-1481626800@www.protivix.com
SUMMARY:Bring Your Project Data to Life with Power BI
DESCRIPTION:Microsoft Project meet Power BI \nMicrosoft Power BI is an analytics tool to helps you stay up to date with the information that matters to you.  With Power BI\, you can monitor your portfolio or projects.  Interactive dashboards help you keep a finger on the pulse of your projects and portfolio.  Connect to multiple datasets to bring all of the relevant data together in one place. \nYou’ll learn: \n\nPower BI Concepts\nHow to get the data\nExplore your project and portfolio dataset\nInteractive dashboards and reports\nMy workspace\n\nSpeaker: Matt Geers \nMatt Geers is a Senior Consultant at Protivix and has almost 20 years of Project Management experience. Throughout his career he has focused on Microsoft technologies such as; Project Online\, Power BI\, Office 365 and MS Dynamics 365. Matt is PMP Certified\, Microsoft Dynamics 365/CRM Certified and holds a Six Sigma Green Belt.
URL:https://www.protivix.com/event/microsoft-project-and-power-bi/
LOCATION:Online
CATEGORIES:Webinar
ORGANIZER;CN="Protivix Staff":MAILTO:info@protivix.com
END:VEVENT
BEGIN:VEVENT
DTSTART;TZID=America/Chicago:20161115T100000
DTEND;TZID=America/Chicago:20161115T110000
DTSTAMP:20260423T124321
CREATED:20161007T173824Z
LAST-MODIFIED:20161007T173824Z
UID:1429-1479204000-1479207600@www.protivix.com
SUMMARY:Reporting with Microsoft Project
DESCRIPTION:About the Webinar \nEvery Project Manager knows that challenges with know how much work has been done on a project. This includes identifying and tracking milestones\, project slippage and knowing whether the workload is realistic for the resources assigned. There is also the challenge of reporting this so that it is effectively communicated to all of your project stakeholders. \nThis webinar will help improve your ability to work with Timelines and visually presenting tasks.  Additionally\, you will learn about dashboards and reports that will allow you to display and share your project data visually. \nYou’ll Learn \n\nTo compare planned\, completed and remaining work\nHow to view project progress and upcoming milestones\nTask status for the current week and tasks that are planned for the following week\nHow to analyze resource utilization\nReview the status of project milestones\nReview percent complete of tasks and any work variance\n\nSpeaker: Ross Ghiasi \nRoss Ghiasi is a Sr. EPM consultant for Protivix. Ross has 19 years of combined PPM and consulting experience. He is a Project 2013 VTS-P\, MCSE and MCP\, certified in Project Server and Project Professional 2013. \n 
URL:https://www.protivix.com/event/reporting-with-microsoft-project-2/
CATEGORIES:Webinar
END:VEVENT
BEGIN:VEVENT
DTSTART;TZID=America/Chicago:20161025T100000
DTEND;TZID=America/Chicago:20161025T110000
DTSTAMP:20260423T124321
CREATED:20161007T170526Z
LAST-MODIFIED:20161010T191946Z
UID:1076-1477389600-1477393200@www.protivix.com
SUMMARY:How to Build an Effective Project Schedule with Microsoft Project-Webinar
DESCRIPTION:About the Webinar \nLearn about Microsoft Project features\, navigation and how to build schedules to fit your project phases. In this webinar\, we share best practices\, tips\, and tricks for project scheduling. You’ll learn how to create tasks so that your project is organized and reflects what you want to accomplish while taking advantage of dependencies that will help you shorten the critical path. You’ll also learn tips on using constraints and deadlines; and how to assign resources. \nYou’ll Learn \n\nEnter and organize tasks\nEntering duration or work estimates\nSetting dependencies more efficiently\nUsing constraints efficiently\nAssign resources without over-allocating them\n\nSpeaker: Ross Ghiasi \nRoss Ghiasi is a Sr. EPM consultant for Protivix. Ross has 19 years of combined PPM and consulting experience. He is a Project 2013 VTS-P\, MCSE and MCP\, certified in Project Server and Project Professional 2013.
URL:https://www.protivix.com/event/how-to-build-an-effective-project-schedule-webinar/
LOCATION:Online
CATEGORIES:Webinar
END:VEVENT
BEGIN:VEVENT
DTSTART;TZID=America/Chicago:20160629T110000
DTEND;TZID=America/Chicago:20160629T120000
DTSTAMP:20260423T124321
CREATED:20160405T164150Z
LAST-MODIFIED:20160405T164150Z
UID:1427-1467198000-1467201600@www.protivix.com
SUMMARY:How to Build a Solid Schedule for Your Project
DESCRIPTION:In this webinar\, we will cover best practices for building a project schedule that realistically represents the lifecycle of your project. Ultimately you will learn how to create more accurate schedules\, that reflect the amount of work and costs of your project. \n• Set the foundation with the right project options\n• Enter and organize tasks\n• Entering duration or work estimates\n• Setting dependencies more efficiently\n• Using constraints effectively\n• Assign resources without over allocating them
URL:https://www.protivix.com/event/solid-schedule-project-2/
LOCATION:Online
CATEGORIES:Webinar
ORGANIZER;CN="Protivix Staff":MAILTO:info@protivix.com
END:VEVENT
BEGIN:VEVENT
DTSTART;TZID=America/Chicago:20160119T113000
DTEND;TZID=America/Chicago:20160119T130000
DTSTAMP:20260423T124321
CREATED:20160107T232901Z
LAST-MODIFIED:20160128T064027Z
UID:223-1453203000-1453208400@www.protivix.com
SUMMARY:Microsoft Project Webcast Series - Reports and Dashboards for Power BI
DESCRIPTION:Data represents one of the top challenges for both business and IT\, Portfolio\, Project and Resource Reporting. Dashboards are meaningful when they are approached and developed in the right way. \nIn addition\, manually consolidating metrics for resource capacity planning and portfolio level reporting can be very time consuming. Learn how to automate your reporting and create dashboards you can easily manage and share with your internal stakeholders on any device\, anywhere. \nIn this webcast you will learn: \n\nHow to create powerful and actionable Reports for the Portfolio\, Individual Project and Enterprise Resources\nHow to build Reports and Dashboards quickly\nLeveraging Natural Language Query with Power BI\n\nFeatured speaker: Richard Cano\, founder and CEO of Protivix. \nRegister
URL:https://www.protivix.com/event/microsoft-project-webcast-series-reports-and-dashboards-for-power-bi/
LOCATION:Online
CATEGORIES:Webinar
END:VEVENT
BEGIN:VEVENT
DTSTART;TZID=America/Chicago:20160119T100000
DTEND;TZID=America/Chicago:20160119T104000
DTSTAMP:20260423T124321
CREATED:20151216T233812Z
LAST-MODIFIED:20160128T063926Z
UID:222-1453197600-1453200000@www.protivix.com
SUMMARY:Agile Based Scheduling with MS Project Professional - Webinar
DESCRIPTION:Customers tell us frequently their biggest frustration is the daunting time and financial investment it takes to implement large\, enterprise applications or projects. In this session\, you will learn how to leverage your existing Microsoft Project knowledge to schedule and manage agile projects. We will demonstrate assigning tasks\, creating Sprints\, and using MS Project Agile templates. \nFind out how to leverage your existing MS Project knowledge to schedule and manage agile projects.  \n\nHow to leverage Microsoft Project for agile projects\nBreaking down user stories or requirements into assigned tasks\nCreating Sprints or iterations in MS Project\nReporting\, including Burn down charts in MS Project\nThe future of Microsoft Project\n\nWho Should Attend: CIO’s CTO’s\, PMO Managers / Directors\, Program Managers / Directors \nSpeaker: Joe Sacco \nRegister
URL:https://www.protivix.com/event/agile-based-scheduling-with-ms-project-professional-webinar/
LOCATION:Online
CATEGORIES:Webinar
ORGANIZER;CN="Protivix Staff":MAILTO:info@protivix.com
END:VEVENT
BEGIN:VEVENT
DTSTART;TZID=America/Chicago:20151215T143000
DTEND;TZID=America/Chicago:20151215T153000
DTSTAMP:20260423T124321
CREATED:20151203T171511Z
LAST-MODIFIED:20160128T063850Z
UID:221-1450189800-1450193400@www.protivix.com
SUMMARY:Protivix Webinar - Enterprise Resource Capacity Planning
DESCRIPTION:Project leaders must constantly justify headcount and manage use of resources in a rapidly changing and demanding environment. It is often difficult to tell when resources will be available and what they are working on. \nJoin our FREE webinar to learn more about managing resource capacity with Microsoft Project to make informed decisions about how to maximize resource allocation. You will learn tips to reduce your frustration with trying to determine who’s doing what and when they are doing it.  You will learn: \n\nForecast resource requirements for new and proposed projects\nIdentify resource availability\nReview my team’s assignments\nManage Resource Capacity across the Portfolio\nHow to determine when projects can be started and finished based on resource availability\n\nWho should attend:  Project Managers\, Resource Managers\, PMO Manager/Directors\, Leaders of large initiatives \nSpeaker: Cindy Moore \nRegister
URL:https://www.protivix.com/event/protivix-webinar-enterprise-resource-capacity-planning/
LOCATION:Online
CATEGORIES:Webinar
ORGANIZER;CN="Protivix Staff":MAILTO:info@protivix.com
END:VEVENT
BEGIN:VEVENT
DTSTART;TZID=America/Chicago:20150625T100000
DTEND;TZID=America/Chicago:20150625T110000
DTSTAMP:20260423T124321
CREATED:20150605T213859Z
LAST-MODIFIED:20160128T040437Z
UID:217-1435226400-1435230000@www.protivix.com
SUMMARY:Protivix Webinar - Making the Transition to Agile
DESCRIPTION:As the consumer and enterprise technologies continue to release functionality at a faster pace\, business executives are expecting IT leaders to do the same. In this webinar\, you will learn best practices on helping your organization move from a traditional waterfall methodology to a more agile approach. Understand how to manage this transition and what you should expect from you project teams\, IT Management and business stakeholders. \nIn this webinar you will learn: \n\nHow to manage the transition\nAgile Scheduling\nIT and Business Expectations\nHow to demonstrate value
URL:https://www.protivix.com/event/protivix-webinar-making-the-transition-to-agile/
LOCATION:Online
CATEGORIES:Webinar
END:VEVENT
BEGIN:VEVENT
DTSTART;VALUE=DATE:20150326
DTEND;VALUE=DATE:20150327
DTSTAMP:20260423T124321
CREATED:20150325T010130Z
LAST-MODIFIED:20160128T063446Z
UID:216-1427328000-1427414399@www.protivix.com
SUMMARY:Protivix PPM Webinar – Excel to Project
DESCRIPTION:PPM Webinar Series: Learn successful strategies and tools for converting from Excel to project. \nRegister
URL:https://www.protivix.com/event/protivix-ppm-webinar-excel-to-project/
LOCATION:Online
CATEGORIES:Webinar
ORGANIZER;CN="Protivix Staff":MAILTO:info@protivix.com
END:VEVENT
END:VCALENDAR